BEGIN:VCALENDAR
VERSION:2.0
PRODID:-//Tigertræning - ECPv4.8.1//NONSGML v1.0//EN
CALSCALE:GREGORIAN
METHOD:PUBLISH
X-WR-CALNAME:Tigertræning
X-ORIGINAL-URL:https://tigertraening.dk
X-WR-CALDESC:Events for Tigertræning
BEGIN:VEVENT
DTSTART;TZID=UTC+0:20160906T090000
DTEND;TZID=UTC+0:20160906T153000
DTSTAMP:20260421T154059
CREATED:20161207T101618Z
LAST-MODIFIED:20161207T101618Z
UID:4296-1473152400-1473175800@tigertraening.dk
SUMMARY:Workshop
DESCRIPTION:UDSOLGT \n
URL:https://tigertraening.dk/event/workshop/
LOCATION:Kulturhuset Islands Brygge\, Islands Brygge 18\, Kbh S\, 2300
END:VEVENT
END:VCALENDAR