BEGIN:VCALENDAR
VERSION:2.0
PRODID:-//Tigertræning - ECPv4.8.1//NONSGML v1.0//EN
CALSCALE:GREGORIAN
METHOD:PUBLISH
X-WR-CALNAME:Tigertræning
X-ORIGINAL-URL:https://tigertraening.dk
X-WR-CALDESC:Events for Tigertræning
BEGIN:VEVENT
DTSTART;TZID=UTC+0:20181118T100000
DTEND;TZID=UTC+0:20181118T120000
DTSTAMP:20260421T043221
CREATED:20180124T120554Z
LAST-MODIFIED:20180124T120554Z
UID:11055-1542535200-1542542400@tigertraening.dk
SUMMARY:Tigertræning-VAN – Familiehold for børn og voksen i Vanløse
DESCRIPTION:Tigertræning-VAN – Familiehold for børn og voksen i Vanløse\nTigertræning undervisning for børn med forældre med live musik. Undervisere er Lise og Troels. \nTilmelding VAN1 for 2½-3 årige \nTilmelding VAN2 for 4-6 årige \nHvad siger andre der har prøvet Tigertræning?\nVi vil anbefalde at du online læser de anmeldelser vi har fået. Følg disse links: Trustpilot\, Facebook og Google. \nTigertræning-VAN – Familiehold for børn og voksen i Vanløse\nFamiliehold er en af Tigertrænings hjørnesten. Her sætter vi en ramme for familier til være sammen i dyb nærvær\, i lege og musik. Tigertræning bevægelses metoden som er udviklet af idrætspædagog Lise Steffensen\, handler om at lave mange forskellige og øvelser. At det motoriske usikre barn bliver styrket igennem alsidige lege. At børn og voksne lære at sætte tydelige grænser og respekterer dem. Tigertræning er pædagogisk idræt: alle kan være med og her er der ingen gradueringer. Tigertræning: FORDI DET ER SJOVT! \nKampreglerne\nKampreglerne bliver brugt aktivt på familieholdene. I Tigertræning er det vigtigt at vi øver os i at respekterer hinandens grænser. Børnene skal respekterer de voksnes grænser\, og de voksne skal respekterer børnenes grænser. Det kræver øvelse. Læs mere om kampregler \nMusikken\nMusik og Tigertræning er uløseligt forbundet. Alt musikken til Tigertræning er skrevet specifik til de forskelige lege\, og hvilken bevægelser der er forbundet med de lege. Musikken er komponeret af Troels Alsted sammen med Lise Steffensen.Musikken er udgivet og kan købes i vores bøger\, eller lyttes til på Spotify\, Apple Music\, Deezer og andre streamingtjenester. \nRammerne\nUndervisningen forgår i Kulturstationen Vanløse\, et kulturhus vi siden 2011 har haft et godt og frugtbart samarbejde med. Vi havde i flere år familiehold og Kvan-salen og vi havde også urpremiere på Legekoncert her. Siden 2015 har vi benyttet både Kvan- og Heerupsalen. De to sale slået sammen er dejlige lyse\, og inviterer til at tumle rundt i. Kulturstationen Vanløse \nFølg os på Facebook og YouTube \n
URL:https://tigertraening.dk/event/vanloese-familiehold-2018-11-18/
LOCATION:Kulturstationen Vanløse\, Frode Jakobsens Plads 4\, Vanløse\, 2720
CATEGORIES:Familiehold
ATTACH;FMTTYPE=image/jpeg:https://tigertraening.dk/wp-content/uploads/2018/01/Familiehold-butiksbilleder-VAN1-og-VAN2-kopi.jpg
END:VEVENT
END:VCALENDAR