BEGIN:VCALENDAR
VERSION:2.0
PRODID:-//Tigertræning - ECPv4.8.1//NONSGML v1.0//EN
CALSCALE:GREGORIAN
METHOD:PUBLISH
X-WR-CALNAME:Tigertræning
X-ORIGINAL-URL:https://tigertraening.dk
X-WR-CALDESC:Events for Tigertræning
BEGIN:VEVENT
DTSTART;TZID=UTC+0:20181122T160000
DTEND;TZID=UTC+0:20181122T180000
DTSTAMP:20260420T140408
CREATED:20181025T085412Z
LAST-MODIFIED:20181025T085412Z
UID:11155-1542902400-1542909600@tigertraening.dk
SUMMARY:Tigertræning-VES – Familiehold efterår 2018 for børn og voksen Vesterbro
DESCRIPTION:VES-familiehold – Tilmelding nødvendig.\nTigertræning undervisning efterår 2018 for børn med forældre. Underviser Lise Steffensen. \nTilmelding VES1 for 2½-3 årige \nTilmelding VES2 for 4-6 årige \nHvad siger andre der har prøvet Tigertræning?\nVi vil anbefalde at du online læser de anmeldelser vi har fået. Følg disse links: Trustpilot\, Facebook og Google. \nTigertræning-VES – Familiehold efterår 2018 for børn og voksen Vesterbro\nMax antal børn: 15\nTigertræning-VES Familiehold efterår 2018 for børn og voksen Vesterbro\nKulturanstalten Vesterbro\, Lyrskovgade 4\, 1758 København V\, Salen 3. sal.\nStart 1. marts – slut 26. maj.\nAlle datoer: 1/3\, 8/3\, 15/3\, 22/3\, 5/4\, 12/4\, 19/4\, 26/4\, 3/5\, 17/5\, 24/5\n12 gange (inkl. fælles afslutning i Prismen\, lørdag den 26. maj).\nPrisen er for ét barn og én voksen (inkl. moms). \nTigertræning-VES – Familiehold efterår 2018 for børn og voksen Vesterbro\nFamiliehold er en af Tigertrænings hjørnesten. Her sætter vi en ramme for familier til være sammen i dyb nærvær\, i lege og musik. Tigertræning bevægelses metoden som er udviklet af idrætspædagog Lise Steffensen\, handler om at lave mange forskellige og øvelser. At det motoriske usikre barn bliver styrket igennem alsidige lege. At børn og voksne lære at sætte tydelige grænser og respekterer dem. Tigertræning er pædagogisk idræt: alle kan være med og her er der ingen gradueringer. \nVesterbro Bibliotek og Kulturhus \nFølg os på Facebook og Youtube \nKampreglerne\nKampreglerne bliver brugt aktivt på familieholdene. I Tigertræning er det vigtigt at vi øver os i at respekterer hinandens grænser. Børnene skal respekterer de voksnes grænser\, og de voksne skal respekterer børnenes grænser. Det kræver øvelse. Læs mere om kampregler \nMusikken\nMusik og Tigertræning er uløseligt forbundet. Alt musikken til Tigertræning er skrevet specifik til de forskelige lege\, og hvilken bevægelser der er forbundet med de lege. Musikken er komponeret af Troels Alsted sammen med Lise Steffensen. Musikken er udgivet og kan købes i vores bøger\, eller lyttes til på Spotify\, Apple Music\, Deezer og andre streamingtjenester. \nRammerne\nUndervisningen forgår på Kulturanstalten Vesterbro på Lyrskovsgade 4. Et hus som siden Tigertræning startede har støtte op om vores aktiviteter. Vi har et godt og frugtbart samarbejde med huset. Vi er i Salen på 3. sal\, som er en dejlig stor sal\, med plads til at tumle. \n
URL:https://tigertraening.dk/event/tigertraening-ves-familiehold-efteraar-2018-boern-voksen-vesterbro-2018-11-22/
LOCATION:Salen\, Kulturanstalten – Vesterbro Bibliotek og Kulturhus\, Lyrskovsgade 4\, København V\, Hovedstaden\, 1758\, Danmark
CATEGORIES:Familiehold
ATTACH;FMTTYPE=image/jpeg:https://tigertraening.dk/wp-content/uploads/2018/01/Familiehold-butiksbilleder-VES1-og-VES2-kopi.jpg
END:VEVENT
END:VCALENDAR