BEGIN:VCALENDAR
VERSION:2.0
PRODID:-//Tigertræning - ECPv4.8.1//NONSGML v1.0//EN
CALSCALE:GREGORIAN
METHOD:PUBLISH
X-WR-CALNAME:Tigertræning
X-ORIGINAL-URL:https://tigertraening.dk
X-WR-CALDESC:Events for Tigertræning
BEGIN:VEVENT
DTSTART;TZID=UTC+0:20190123T120000
DTEND;TZID=UTC+0:20190123T140000
DTSTAMP:20260419T132953
CREATED:20181106T090800Z
LAST-MODIFIED:20181106T090800Z
UID:15549-1548244800-1548252000@tigertraening.dk
SUMMARY:Tigertræning Tigerbold for institutioner i KBH Kommune - Åbendagtilbud
DESCRIPTION:Tigertræning Tigerbold for institutioner i KBH Kommune – Åbendagtilbud\nForløbene bør ses som inspiration til institutionens øvrige bevægelsestilbud. Igennem Københavns Kommunes Åbendagtilbud ordning har institutioner mulighed for at få små forløb. Tigertræning Tigerbold for institutioner i KBH Kommune – Åbendagtilbud \nInstitutioner der i denne omgang har fået tilbuddet:\nKrudtuglen – Islands Brygge\nAsgård – Nørrebro\nKrible Krable – Nørrebro\nHaven – Brønshøj\nKlatretræet – Vesterbro \nElementer i undervisningen\nTigertræning afholder konsulent- og kursusforløb for dagtilbud og indskoling. Målet med disse forløb er at bevægelse\, musik og sang bliver en del af pædagogikken og den dagligdags kultur. Efteruddannelse sker i institutionen og børnene er med i forløbet\, således et de er med til at forankre den læring pædagogerne får. \nElementer i undervisningen: \n\nat stimulere børnenes motorik og bevægelsesglæde med bolden i centrum\nat børn og voksne får nye bevægelseslege der kan benyttes pædagogisk i institutionen\nat styke udviklingen af en god bevægelses- og musik kultur i institutionen\nat give det pædagogiske personale nogle værktøjer til arbejdet med boldlege i store og små grupper\n\nLæs mere om institutionsforløb \nMusikken\nMusik og Tigertræning er uløseligt forbundet. Al musikken til Tigertræning er skrevet specifikt til de forskellige lege\, og hvilke bevægelser der er forbundet med de lege. Musikken er komponeret af Troels Alsted sammen med Lise Steffensen.Musikken er udgivet og kan købes i vores butik\, eller høres på Spotify\, Apple Music\, Deezer og andre streamingtjenester. \nHvad siger andre der har prøvet Tigertræning?\nVi vil anbefalde at du online læser de anmeldelser vi har fået. Følg disse links: Trustpilot\, Facebook og Google. \n\n\n\nTigertræning Tigerbold for institutioner i KBH Kommune – Åbendagtilbud\nHvem henvender kurset sig til? Kursus i leg kamp og bevægelse med Tigertræning henvender sig til pædagoger\, lærere og andre med pædagogisk uddannelse og erfaring. Samt Fysioterapeuter\, psykomotorik-terapeuter og andre med erfaring inden for krop\, bevægelse og sundhed. \n\n\n\nI arbejdet med leg\, kamp og bevægelse er underviserens engagement\, åbenhed og interesse for bevægelse\, motorik og pædagogiske fællesskaber central. Som rollemodel og formidler skal den kommende instruktør selv have glæde og interesse for arbejde med krop og bevægelse og kunne formidle og dele denne glæde med andre. \nFølg os på Facebook og YouTube \n
URL:https://tigertraening.dk/event/tigertraening-tigerbold-institutioner-kbh-kommune-aabendagtilbud-2019-01-17-2019-01-24/
CATEGORIES:Institutions forløb
ATTACH;FMTTYPE=image/jpeg:https://tigertraening.dk/wp-content/uploads/2016/11/Tilhører-Tigertræning-Foto-af-Conny-Petersen_DSC0171-kopi.jpg
END:VEVENT
END:VCALENDAR