BEGIN:VCALENDAR
VERSION:2.0
PRODID:-//Tigertræning - ECPv4.8.1//NONSGML v1.0//EN
CALSCALE:GREGORIAN
METHOD:PUBLISH
X-WR-CALNAME:Tigertræning
X-ORIGINAL-URL:https://tigertraening.dk
X-WR-CALDESC:Events for Tigertræning
BEGIN:VEVENT
DTSTART;TZID=UTC+0:20190113T103000
DTEND;TZID=UTC+0:20190113T113000
DTSTAMP:20260420T020433
CREATED:20181106T084445Z
LAST-MODIFIED:20181106T084445Z
UID:11350-1547375400-1547379000@tigertraening.dk
SUMMARY:Tigertræning Legekoncert - introduktion til familiehold i Viften
DESCRIPTION:Tigertræning Legekoncert – introduktion til familiehold i Viften\nHar du ikke prøvet før Tigertræning\, så er her en oplagt mulighed for dig og dit barn til at prøve Tigertrænings sjove lege og engagerende musik. Vi holder et brag af en fest for både børn og voksne for at fejre at Kulturhuset Viften i foråret 2019 tilbyder familiehold til Rødovre borgere! Tigertræning Legekoncert – introduktion til familiehold i Viften. \nKoncertsalen bliver forvandlet til en helt unik legeplads for både børn og voksne med sjove lege og akrobatik\, sværdkamp og tumlelege\, musik og sange\, ansigtsmaling og ikke mindst den 40 meter lang tiger Long Fei! \nLegene er som sædvanlig kyndigt styret af idrætspædagog Lise Steffensen og ledsaget af levende\, swingende musik og sange der er skrevet specielt til hver leg.\nMusikken skrevet\, komponeret og udgivet i et samarbejde mellem Lise Steffensen og Troels Alsted. \nHvem kan deltage?\nKoncerten er målrette 3-6 årige børn og deres familier\, men alle kan deltage. \nDørene åbner kl. 10.00 og det er muligt at få malet en flot Tiger ansigtsmaske før koncerten. Kom i god tid! \nTigertræning Legekoncert – introduktion til familiehold i Viften\nPris\nDet koster 50 kr. at komme ind.\nHusk\, billetprisen er pr. næse\, dvs. at både voksne og børn betaler indgangs billetten. \nOm Tigertræning\nTigertræning er en bevægelsesmetode for børn og voksne\, som indeholder elementer af børneyoga\, familieakrobatik\, kamplege og musik. Konceptet er udviklet af Idrætspædagog Lise Steffensen. \nTigertræning har et fast familiehold i Kulturhuset Viften én gang om måneden og både forårs sæsonen og efterårs sæsonen afsluttes med en stor legekoncert. Musikken er udgivet og kan købes i vores bøger\, eller lyttes til på Spotify\, Apple Music\, Deezer og andre streamingtjenester. \nBesøg Tigertræning facebook \nHvad siger andre der har prøvet Tigertræning?\nVi vil anbefalde at du online læser de anmeldelser vi har fået. Følg disse links: Trustpilot\, Facebook og Google. \n
URL:https://tigertraening.dk/event/tigertraening-legekoncert-introduktion-til-familiehold-i-viften/
LOCATION:Viften\, Rødovre Parkvej 130\, Rødovre\, Hovedstaden\, 2610\, Danmark
CATEGORIES:Legekoncert,Tigerparade
ATTACH;FMTTYPE=image/jpeg:https://tigertraening.dk/wp-content/uploads/2017/12/Tilhører-Tigertræning-Foto-af-David-Buchmann-DSC_4803-kopi.jpg
END:VEVENT
END:VCALENDAR