BEGIN:VCALENDAR
VERSION:2.0
PRODID:-//Tigertræning - ECPv4.8.1//NONSGML v1.0//EN
CALSCALE:GREGORIAN
METHOD:PUBLISH
X-WR-CALNAME:Tigertræning
X-ORIGINAL-URL:https://tigertraening.dk
X-WR-CALDESC:Events for Tigertræning
BEGIN:VEVENT
DTSTART;TZID=UTC+0:20181123T100000
DTEND;TZID=UTC+0:20181123T110000
DTSTAMP:20260420T122338
CREATED:20181106T081039Z
LAST-MODIFIED:20181106T081039Z
UID:11346-1542967200-1542970800@tigertraening.dk
SUMMARY:Tigertræning Legekoncert for institutioner i K-I-B - husk at tilmeld dig
DESCRIPTION:Tigertræning Legekoncert for institutioner i K-I-B – husk at tilmeld dig\nKom til koncert og leg sammen med Tigertræning. Vi skal lege sjove\, vilde lege fra Tigertrænings legekatalog. Tigertræning Legekoncert for institutioner i K-I-B – husk at tilmeld dig\n\nKulturhuset Islands Brygge slår dørene op for en fantastisk legekoncert med Tigertræning. Der er åbent for alle børn\, børnehaver og dagplejere\, men man skal tilmelde sig ved at hente en gratis billet her   \nTigertræning Legekoncert for institutioner i K-I-B – husk at tilmeld dig\nKom til en sjov dag\, hvor vi leger som vilde tigre og synger sange. Alle legene kan samtidig fungere som inspiration til pædagogisk personale. \nAlder: 2-5 år. \nMusikken og legene tager udgangspunkt i de 4 bøger og cd’er: Twang!\, Twang 2\, Tigeren er løs! og Dragekamp og koglekast. Musikken kan høres på Spotify\, Apple Music\, Deezer og andre streamingtjenester. \nHvad siger andre der har prøvet Tigertræning?\nVi vil anbefalde at du online læser de anmeldelser vi har fået. Følg disse links: Trustpilot\, Facebook og Google. \nTigertræning i institutionen og derhjemme\nLegene og musikken fra Tigertræning kan benyttes hjemme i stuen\, til familiefest\, i børnehaven mm. Musik og legebøger kan bestilles her \nFølg os på Facebook og YouTube \n\n
URL:https://tigertraening.dk/event/tigertraening-legekoncert-for-institutioner-i-k-i-b-husk-at-tilmeld-dig/
LOCATION:Kulturhuset Islands Brygge\, Islands Brygge 18\, København\, 2300\, Denmark
CATEGORIES:Legekoncert,Tigerparade
ATTACH;FMTTYPE=image/jpeg:https://tigertraening.dk/wp-content/uploads/2015/12/Tilhører-Tigertræning-fotos-af-Anna-Pinto-IMG_7780.jpg
END:VEVENT
END:VCALENDAR