BEGIN:VCALENDAR
VERSION:2.0
PRODID:-//Tigertræning - ECPv4.8.1//NONSGML v1.0//EN
CALSCALE:GREGORIAN
METHOD:PUBLISH
X-WR-CALNAME:Tigertræning
X-ORIGINAL-URL:https://tigertraening.dk
X-WR-CALDESC:Events for Tigertræning
BEGIN:VEVENT
DTSTART;TZID=UTC+0:20181126T093000
DTEND;TZID=UTC+0:20181126T113000
DTSTAMP:20260420T091603
CREATED:20181026T120642Z
LAST-MODIFIED:20181026T120642Z
UID:11263-1543224600-1543231800@tigertraening.dk
SUMMARY:Tigertræning institutionsforløb i Udflytterbørnehaven Koppelvænget 65
DESCRIPTION:Tigertræning institutionsforløb i Udflytterbørnehaven Koppelvænget 65\nUdflytterbørnehaven Koppelvænget 65 – institutionsforløb – Tigertræning. Efteruddannelse af personale\, inspiration til nye aktiviteter i pædagogiske rammer. Tigertræning institutionsforløb i Udflytterbørnehaven Koppelvænget 65 \nTigertræning institutionsforløb i Udflytterbørnehaven Koppelvænget 65\nTigertræning afholder konsulent- og kursusforløb for dagtilbud og indskoling. Målet med disse forløb er at bevægelse\, musik og sang bliver en del af pædagogikken og den dagligdags kultur. Efteruddannelse sker i institutionen og børnene er med i forløbet\, således et de er med til at forankre den læring pædagogerne får. \nElementer i undervisningen: \n\nat stimulere børnenes motorik og bevægelsesglæde\nat børn og voksne får nye bevægelseslege der kan benyttes pædagogisk i institutionen\nat styke udviklingen af en god bevægelses- og musik kultur i institutionen\nat give det pædagogiske personale nogle værktøjer til arbejdet med børneyoga\, kamplege og musik i store og små grupper\nAt lærer børn og voksne om Tigertræning Kampregler og hvordan de bruges\n\nLæs mere om institutionsforløb \nFølg os på Facebook og YouTube \nMusikken\nMusik og Tigertræning er uløseligt forbundet. Al musikken til Tigertræning er skrevet specifikt til de forskellige lege\, og hvilke bevægelser der er forbundet med de lege. Musikken er komponeret af Troels Alsted sammen med Lise Steffensen.Musikken er udgivet og kan købes i vores butik\, eller høres på Spotify\, Apple Music\, Deezer og andre streamingtjenester. \nHvad siger andre der har prøvet Tigertræning?\nVi vil anbefalde at du online læser de anmeldelser vi har fået. Følg disse links: Trustpilot\, Facebook og Google. \n\n\n\nTigertræning institutionsforløb i Udflytterbørnehaven Koppelvænget 65\nHvem henvender kurset sig til? Kursus i leg kamp og bevægelse med Tigertræning henvender sig til pædagoger\, lærere og andre med pædagogisk uddannelse og erfaring. Samt Fysioterapeuter\, psykomotorik-terapeuter og andre med erfaring inden for krop\, bevægelse og sundhed. \n\n\n\nI arbejdet med leg\, kamp og bevægelse er underviserens engagement\, åbenhed og interesse for bevægelse\, motorik og pædagogiske fællesskaber central. Som rollemodel og formidler skal den kommende instruktør selv have glæde og interesse for arbejde med krop og bevægelse og kunne formidle og dele denne glæde med andre. \n
URL:https://tigertraening.dk/event/tigertraening-institutionsforloeb-i-udflytterboernehaven-koppelvaenget-65-2018-11-26/
LOCATION:Kobbelvænget\, Kobbelvænget 65\, Brønshøj\, Hovedstaden\, 2700\, Danmark
CATEGORIES:Institutions forløb
ATTACH;FMTTYPE=image/jpeg:https://tigertraening.dk/wp-content/uploads/2016/07/tilhorer_tigertaening_fotos_af_david_buckmann_dsc_8150.jpg
END:VEVENT
END:VCALENDAR