BEGIN:VCALENDAR
VERSION:2.0
PRODID:-//Tigertræning - ECPv4.8.1//NONSGML v1.0//EN
CALSCALE:GREGORIAN
METHOD:PUBLISH
X-WR-CALNAME:Tigertræning
X-ORIGINAL-URL:https://tigertraening.dk
X-WR-CALDESC:Events for Tigertræning
BEGIN:VEVENT
DTSTART;TZID=UTC+0:20190213T130000
DTEND;TZID=UTC+0:20190213T170000
DTSTAMP:20260419T221650
CREATED:20190114T140227Z
LAST-MODIFIED:20190114T140227Z
UID:15552-1550062800-1550077200@tigertraening.dk
SUMMARY:Tigertræning for familier i NygadeHuset i Aabenraa i vinterferien
DESCRIPTION:Tigertræning for familier i NygadeHuset i Aabenraa i vinterferien\nUnder overskriften Mør Dyr Vinterferie\, afholder NygadeHuset en stribe arrangementer og det er ret billigt at kigge ind og få den skøreste og hyggeligste “dyre” oplevelse – med underholdning og kreative aktiviteter for hele familien. Tigertræning for familier i NygadeHuset i Aabenraa i vinterferien \nVæk din indre tiger\, og vær med til at fægte\, danse\, fange haler og køre på hundeslæde – alt sammen til levende\, swingende musik. Alle sange er skrevet specielt til Tigertræningslegene. \n\n\n\nKoncerten starter kl. 13:00 og varer omkring én time. For børn 4-8 år. \nTigertræning for familier i NygadeHuset i Aabenraa i vinterferien\nTigertræning giver børn en sjov introduktion til idræt. Tigertræning indeholder elementer fra yoga\, kamplege og akrobatik. Tigertræning handler også om at lære børnene\, hvordan de sætter tydelige grænser\, når der bliver leget vildt\, og hvordan de samtidig respekterer andre børns grænser. Tigertræning er en bevægelsesmetode udviklet af idrætspædagog Lise Steffensen. \nOm Tigertræning\nTigertræning er en bevægelsesmetode for børn og voksne\, som indeholder elementer af børneyoga\, familieakrobatik\, kamplege og musik. Konceptet er udviklet af Idrætspædagog Lise Steffensen. \nMusikken\nMusikken er udgivet og kan købes i vores bøger\, eller lyttes til på Spotify\, Apple Music\, Deezer og andre streamingtjenester. \nBesøg Tigertræning facebook \nHvad siger andre der har prøvet Tigertræning?\nVi vil anbefalde at du online læser de anmeldelser vi har fået. Følg disse links: Trustpilot\, Facebook og Google. \n\n\n\n
URL:https://tigertraening.dk/event/tigertraening-for-familier-i-nygadehuset-i-aabenraa-i-vinterferien/
CATEGORIES:Legekoncert
ATTACH;FMTTYPE=image/jpeg:https://tigertraening.dk/wp-content/uploads/2016/05/Tigeren-er-løs-EDIT2-LoRess-2.jpg
END:VEVENT
END:VCALENDAR