BEGIN:VCALENDAR
VERSION:2.0
PRODID:-//Tigertræning - ECPv4.8.1//NONSGML v1.0//EN
CALSCALE:GREGORIAN
METHOD:PUBLISH
X-WR-CALNAME:Tigertræning
X-ORIGINAL-URL:https://tigertraening.dk
X-WR-CALDESC:Events for Tigertræning
BEGIN:VEVENT
DTSTART;TZID=UTC+0:20190218T160000
DTEND;TZID=UTC+0:20190218T180000
DTSTAMP:20260420T032534
CREATED:20181025T082417Z
LAST-MODIFIED:20181025T082417Z
UID:11097-1550505600-1550512800@tigertraening.dk
SUMMARY:Tigertræning-AMA – Familiehold forår 2019 for børn og voksen i Prismen
DESCRIPTION:AMA-familiehold – Tilmelding nødvendig.\nTigertræning undervisning for børn med forældre. Underviser Lise Steffensen. \nTilmelding AMA1 for 2½-3 årige \nTilmelding AMA2 for 4-6 årige \nHvad siger andre der har prøvet Tigertræning?\nVi vil anbefalde at du online læser de anmeldelser vi har fået. Følg disse links: Trustpilot\, Facebook og Google. \nTigertræning-AMA – Familiehold forår 2019 for børn og voksen i Prismen\nMax antal børn: 15\nTigertræning-AMA1 – 2½-3 årig og AMA2 – 4-6 årig Familiehold forår 2019 for børn og voksen i Prismen\nUnderviser Lise Steffensen.\nPrismen\, Holmbladsgade 71\, 2300 København S\, i Dansesalen.\nMandage: AMA1 kl. 16:00 – 16:45 & AMA2 kl. 17:00-17:45\nStart 18. februar– slut 25. maj.\nAlle datoer: 18/2\, 25/2\, 4/3\, 11/3\, 25/3\, 1/4\, 8/4\, 15/4\, 29/4\, 6/5\, 13/5\n12 gange (inkl. fælles afslutning i Prismen\, lørdag den 25. maj).\nPrisen er for ét barn og én voksen (inkl. moms). \nTigertræning-AMA – Familiehold forår 2019 for børn og voksen i Prismen\nFamiliehold er en af Tigertrænings hjørnesten. Her sætter vi en ramme for familier til være sammen i dyb nærvær\, i lege og musik. Tigertræning bevægelses metoden som er udviklet af idrætspædagog Lise Steffensen\, handler om at lave mange forskellige og øvelser. At det motoriske usikre barn bliver styrket igennem alsidige lege. At børn og voksne lære at sætte tydelige grænser og respekterer dem. Tigertræning er pædagogisk idræt: alle kan være med og her er der ingen gradueringer. \nPrismen \nFølg os på Facebook og Youtube \nKampreglerne\nKampreglerne bliver brugt aktivt på familieholdene. I Tigertræning er det vigtigt at vi øver os i at respekterer hinandens grænser. Børnene skal respekterer de voksnes grænser\, og de voksne skal respekterer børnenes grænser. Det kræver øvelse. Læs mere om kampregler \nMusikken\nMusik og Tigertræning er uløseligt forbundet. Alt musikken til Tigertræning er skrevet specifik til de forskelige lege\, og hvilken bevægelser der er forbundet med de lege. Musikken er komponeret af Troels Alsted sammen med Lise Steffensen. Musikken er udgivet og kan købes i vores bøger\, eller lyttes til på Spotify\, Apple Music\, Deezer og andre streamingtjenester. \nRammerne\nUndervisningen forgår i Idrætskulturhuset Prismen\, et hus vi har haft et langt og frugtbart samarbejde med. Vi er i dansesalen\, som er en dejlig lys sal\, med plads til at tumle. \n
URL:https://tigertraening.dk/event/tigertraening-ama-familiehold-boern-voksen-prismen/
LOCATION:Prismen – Idræt og kultur i nyt lys – Holmbladsgade\, Amager\, Holmbladsgade 71\, Kbh S\, Hovedstaden\, 2300\, Danmark
CATEGORIES:Familiehold
ATTACH;FMTTYPE=image/jpeg:https://tigertraening.dk/wp-content/uploads/2018/01/Familiehold-butiksbilleder-AMA1-og-AMA2-kopi.jpg
END:VEVENT
END:VCALENDAR