BEGIN:VCALENDAR
VERSION:2.0
PRODID:-//Tigertræning - ECPv4.8.1//NONSGML v1.0//EN
CALSCALE:GREGORIAN
METHOD:PUBLISH
X-WR-CALNAME:Tigertræning
X-ORIGINAL-URL:https://tigertraening.dk
X-WR-CALDESC:Events for Tigertræning
BEGIN:VEVENT
DTSTART;TZID=UTC+0:20160814T140000
DTEND;TZID=UTC+0:20160814T150000
DTSTAMP:20260421T172626
CREATED:20161207T095520Z
LAST-MODIFIED:20161207T095520Z
UID:4269-1471183200-1471186800@tigertraening.dk
SUMMARY:Tigerparade
DESCRIPTION:
URL:https://tigertraening.dk/event/tigerparade/
LOCATION:Kulturhuset Islands Brygge\, Islands Brygge 18\, Kbh S\, 2300
END:VEVENT
END:VCALENDAR