BEGIN:VCALENDAR
VERSION:2.0
PRODID:-//Tigertræning - ECPv4.8.1//NONSGML v1.0//EN
CALSCALE:GREGORIAN
METHOD:PUBLISH
X-WR-CALNAME:Tigertræning
X-ORIGINAL-URL:https://tigertraening.dk
X-WR-CALDESC:Events for Tigertræning
BEGIN:VEVENT
DTSTART;TZID=UTC+0:20160916T100000
DTEND;TZID=UTC+0:20160916T110000
DTSTAMP:20260422T023909
CREATED:20161207T102810Z
LAST-MODIFIED:20161207T102810Z
UID:4314-1474020000-1474023600@tigertraening.dk
SUMMARY:Tigerparade
DESCRIPTION:
URL:https://tigertraening.dk/event/tigerparade-3/
LOCATION:Holbæk Bibliotek\, Nygade 9\, Holbæk\, 4300
END:VEVENT
END:VCALENDAR