BEGIN:VCALENDAR
VERSION:2.0
PRODID:-//Tigertræning - ECPv4.8.1//NONSGML v1.0//EN
CALSCALE:GREGORIAN
METHOD:PUBLISH
X-WR-CALNAME:Tigertræning
X-ORIGINAL-URL:https://tigertraening.dk
X-WR-CALDESC:Events for Tigertræning
BEGIN:VEVENT
DTSTART;TZID=UTC+0:20160831T100000
DTEND;TZID=UTC+0:20160831T110000
DTSTAMP:20260421T122649
CREATED:20161207T100947Z
LAST-MODIFIED:20161207T100947Z
UID:4282-1472637600-1472641200@tigertraening.dk
SUMMARY:Tigerparade
DESCRIPTION:
URL:https://tigertraening.dk/event/tigerparade-2/
LOCATION:Børnekulturhuset Sokkelundlille\, Cirkusvognen ved Lundehus kirkepladsen\, Strødamvej 1\, København Ø\, 2100
END:VEVENT
END:VCALENDAR