BEGIN:VCALENDAR
VERSION:2.0
PRODID:-//Tigertræning - ECPv4.8.1//NONSGML v1.0//EN
CALSCALE:GREGORIAN
METHOD:PUBLISH
X-WR-CALNAME:Tigertræning
X-ORIGINAL-URL:https://tigertraening.dk
X-WR-CALDESC:Events for Tigertræning
BEGIN:VEVENT
DTSTART;TZID=UTC+0:20190214T100000
DTEND;TZID=UTC+0:20190214T113000
DTSTAMP:20260420T000103
CREATED:20181106T095347Z
LAST-MODIFIED:20181106T095347Z
UID:11397-1550138400-1550143800@tigertraening.dk
SUMMARY:Nomertræning på Svendborg Bibliotek – alle legende fra Tigertræning
DESCRIPTION:\nNomertræning på Svendborg Bibliotek – alle legende fra Tigertræning\nPrinsesse Zika og Tigerkongen rykker ud igen med en gang Nomertræning. Børn deltager sammen med en voksen. Der er begrænset pladser og tilmelding sker via Svendborg Biblioteks hjemmeside. Nomertræning på Svendborg Bibliotek – alle legende fra Tigertræning \nDe populære historier om Nomerne inspirerer børnenes fantasi\, og med Nomertræningen får de mulighed for at lege og digte videre på historierne. \nNomertræning på Svendborg Bibliotek – alle legende fra Tigertræning\nHver træningstime starter med en kort beskrivelse af Nomernes evner og deres spændende verden. Legene er enkle bevægelseslege\, der tager udgangspunkt i de 6 Nomertyper: kriger\, rytter\, opfinder\, magiker\, helbreder og mad-nom. \n\nFørst træner og leger vi sammen med prinsesse Zika.\nI pausen laver hvert barn sin egen Nomermaske.\nEfter pausen kommer Nomerne på en mission\nAlle deltagere får et flot Nomer-diplom med hjem.\n\nFor 3-8 årige børn i følgeskab af voksen. Nomertræningen vare 1 1/2 time.\nVi laver også Nomertræning for børnehavegrupper og indskolingsklasser. Kontakt os for mere information. \nLæs mere om Nomerne og Jan Kjær \nHvad siger andre der har prøvet Tigertræning?\nVi vil anbefalde at du online læser de anmeldelser vi har fået. Følg disse links: Trustpilot\, Facebook og Google. \nMusikken\nMusik og Tigertræning er uløseligt forbundet. Al musikken til Tigertræning er skrevet specifikt til de forskellige lege\, og hvilke bevægelser der er forbundet med de lege. Musikken er komponeret af Troels Alsted sammen med Lise Steffensen. Musikken er udgivet og kan købes i vores butik\, eller lyttes til på Spotify\, Apple og lign. tjenster. \nTigertræning derhjemme\nLegene og musikken fra Tigertræning kan benyttes hjemme i stuen\, til familiefest\, i børnehaven mm. Musik og legebøger kan bestilles her \nFølg os på Facebook og YouTube \n\n
URL:https://tigertraening.dk/event/nomertraening-paa-svendborg-bibliotek-legende-tigertraening/
LOCATION:Svendborg Bibliotek\, Svinget 1\, Svendborg\, Syddanmark\, 5700\, Danmark
CATEGORIES:Nomertræning
ATTACH;FMTTYPE=image/jpeg:https://tigertraening.dk/wp-content/uploads/2017/01/Nomertræning-Prinsesse-Zika-og-Tiger-Kongen-WEB-forside-kopi.jpg
END:VEVENT
END:VCALENDAR