BEGIN:VCALENDAR
VERSION:2.0
PRODID:-//Tigertræning - ECPv4.8.1//NONSGML v1.0//EN
CALSCALE:GREGORIAN
METHOD:PUBLISH
X-WR-CALNAME:Tigertræning
X-ORIGINAL-URL:https://tigertraening.dk
X-WR-CALDESC:Events for Tigertræning
BEGIN:VEVENT
DTSTART;TZID=UTC+0:20160901T100000
DTEND;TZID=UTC+0:20160901T120000
DTSTAMP:20260421T104505
CREATED:20161207T101154Z
LAST-MODIFIED:20161207T101154Z
UID:4286-1472724000-1472731200@tigertraening.dk
SUMMARY:Legekoncert
DESCRIPTION:
URL:https://tigertraening.dk/event/legekoncert/
LOCATION:Kronborg fortæller\, Kronborgvej 2\, Helsingør\, 3000
END:VEVENT
END:VCALENDAR