BEGIN:VCALENDAR
VERSION:2.0
PRODID:-//Tigertræning - ECPv4.8.1//NONSGML v1.0//EN
CALSCALE:GREGORIAN
METHOD:PUBLISH
X-WR-CALNAME:Tigertræning
X-ORIGINAL-URL:https://tigertraening.dk
X-WR-CALDESC:Events for Tigertræning
BEGIN:VEVENT
DTSTART;TZID=UTC+0:20160923T090000
DTEND;TZID=UTC+0:20160923T130000
DTSTAMP:20260422T080059
CREATED:20161207T103615Z
LAST-MODIFIED:20161207T103615Z
UID:4324-1474621200-1474635600@tigertraening.dk
SUMMARY:Legekoncert
DESCRIPTION:
URL:https://tigertraening.dk/event/legekoncert-5/
LOCATION:Børn og Musik i Syd\, Husum\, Tyskland\, Husum\, Husum\, Germany
END:VEVENT
END:VCALENDAR