BEGIN:VCALENDAR
VERSION:2.0
PRODID:-//Tigertræning - ECPv4.8.1//NONSGML v1.0//EN
CALSCALE:GREGORIAN
METHOD:PUBLISH
X-WR-CALNAME:Tigertræning
X-ORIGINAL-URL:https://tigertraening.dk
X-WR-CALDESC:Events for Tigertræning
BEGIN:VEVENT
DTSTART;TZID=UTC+0:20160916T163000
DTEND;TZID=UTC+0:20160916T173000
DTSTAMP:20260422T042318
CREATED:20161207T103030Z
LAST-MODIFIED:20161207T103030Z
UID:4318-1474043400-1474047000@tigertraening.dk
SUMMARY:Legekoncert
DESCRIPTION:
URL:https://tigertraening.dk/event/legekoncert-4/
LOCATION:Stubmøllen Børnehave\, Stubmøllevej 10\, København SV\, 2450
END:VEVENT
END:VCALENDAR