BEGIN:VCALENDAR
VERSION:2.0
PRODID:-//Tigertræning - ECPv4.8.1//NONSGML v1.0//EN
CALSCALE:GREGORIAN
METHOD:PUBLISH
X-WR-CALNAME:Tigertræning
X-ORIGINAL-URL:https://tigertraening.dk
X-WR-CALDESC:Events for Tigertræning
BEGIN:VEVENT
DTSTART;TZID=UTC+0:20181027T090000
DTEND;TZID=UTC+0:20181027T150000
DTSTAMP:20260424T192347
CREATED:20181026T082725Z
LAST-MODIFIED:20181026T082725Z
UID:11203-1540630800-1540652400@tigertraening.dk
SUMMARY:Heldagskursus for pædagoger i institutionen Livets Børn
DESCRIPTION:Heldagskursus for pædagoger i institutionen Livets Børn\n\nHeldagskursus i Lege fra Tigertræning for 10 personale i institutionen Livets Børn. Kurset er skræddersyet til Institutionen og tager udgangspunkt i udgivelserne om Tigertræning. Heldagskursus for pædagoger i institutionen Livets Børn \n“Børn lærer en masse om sig selv og hinanden igennem bevægelseslege. Det er ikke kun godt for deres motorik men også for deres sociale kompetencer\, selvværd\, glæde og fællesskab. I Tigertræning indgår elementer af børneyoga\, samarbejdslege\, fægtelege med skumsværd og der er musik til legene. Legene kan benyttes i pædagogisk arbejde med både små og store grupper og benytte både udendørs og indendørs. Der indgår både indspillet og levende musik til legene. Vi gennemgår også hvordan musik indvirker på bevægelse.“ \nAlle deltagere modtager et digital oversigt over gennemgået lege\, artikler m.m. På kurset gennemgår vi en lang række\, yogahistorier\, fægtelege\, tumlelege\, samarbejdslege og kontaktlege. Legene formidles både pratisk og teoretisk.  \nKurset omhandler også  pædagogiske og metodiske overvejelser i forhold til undervisning af forskellige aldersgrupper i børnehaven\, sårbare børn m.m. Desuden gives der bud på hvordan legene kan benyttes i pædagogisk arbejde\, så de understøtter børns udvikling både socialt\, følelsesmæssigt og motorisk.Vi ser på stimulering af barnets sansemotoriske udvikling igennem bevægelseslege. Legene kan benyttes i mange sammenhænge\, men på dette kursus er der fokus på børngrupper i almindelige børnehaver.  \nHeldagskursus for pædagoger i institutionen Livets Børn\nDagens program: \n1. Velkommen og præsentation\n2. Bevægelses fortællinger\n3. Opvarmningslege/Rekvisitlege\n4. Kamplege indledning\n4.1. Kamplege uden kropskontakt\n4.2. Tigertræning kampregler\n4.3. Kamplege med rekvisit\n4.4. Kamplege med kropskontakt\n5. Samarbejdslege\n6. Afspændings- og mindfuldness lege\n7. Tak for idag. \nMusikken\nMusik og Tigertræning er uløseligt forbundet. Al musikken til Tigertræning er skrevet specifikt til de forskellige lege\, og hvilke bevægelser der er forbundet med de lege. Musikken er komponeret af Troels Alsted sammen med Lise Steffensen. Musikken er udgivet og kan købes i vores butik\, eller høres på Spotify\, Apple Music\, Deezer og andre streamingtjenester. \nHvad siger andre der har prøvet Tigertræning?\nVi vil anbefalde at du online læser de anmeldelser vi har fået. Følg disse links: Trustpilot\, Facebook og Google. \n\n
URL:https://tigertraening.dk/event/heldagskursus-paedagoger-institutionen-livets-boern/
LOCATION:Livets Børn\, Kirkevej 10\, Gedved\, Midtjylland\, 8751\, Danmark
CATEGORIES:Kursus
ATTACH;FMTTYPE=image/jpeg:https://tigertraening.dk/wp-content/uploads/2018/10/kursus-billede-IMG_6997.jpg
END:VEVENT
END:VCALENDAR