BEGIN:VCALENDAR
VERSION:2.0
PRODID:-//Tigertræning - ECPv4.8.1//NONSGML v1.0//EN
CALSCALE:GREGORIAN
METHOD:PUBLISH
X-WR-CALNAME:Tigertræning
X-ORIGINAL-URL:https://tigertraening.dk
X-WR-CALDESC:Events for Tigertræning
BEGIN:VEVENT
DTSTART;TZID=UTC+0:20160907T150000
DTEND;TZID=UTC+0:20160907T170000
DTSTAMP:20260421T172446
CREATED:20161207T101812Z
LAST-MODIFIED:20161207T101812Z
UID:4298-1473260400-1473267600@tigertraening.dk
SUMMARY:Foredrag/Workshop
DESCRIPTION:Kurset er gratis for ansatte i Helsingør kommune. \nAndre kan tilmelde sig hos Anne-Mette Hermansen <amh33@helsingor.dk>. \nDet koster 400 kr. for de to kursusgange inklusiv kaffe\, te og økologisk kage! \n
URL:https://tigertraening.dk/event/foredragworkshop/
LOCATION:Helsingør Kommune\, Gurrevej 90\, Helsingør\, 3000
END:VEVENT
END:VCALENDAR