BEGIN:VCALENDAR
VERSION:2.0
PRODID:-//Tigertræning - ECPv4.8.1//NONSGML v1.0//EN
CALSCALE:GREGORIAN
METHOD:PUBLISH
X-WR-CALNAME:Tigertræning
X-ORIGINAL-URL:https://tigertraening.dk
X-WR-CALDESC:Events for Tigertræning
BEGIN:VEVENT
DTSTART;TZID=UTC+0:20160904T100000
DTEND;TZID=UTC+0:20160904T110000
DTSTAMP:20260421T140432
CREATED:20161207T101436Z
LAST-MODIFIED:20161207T101436Z
UID:4292-1472983200-1472986800@tigertraening.dk
SUMMARY:Familiens legedag
DESCRIPTION:
URL:https://tigertraening.dk/event/familiens-legedag/
LOCATION:Grøndal MultiCenter\, Hvidkildevej 64\, København NV\, 2400
END:VEVENT
END:VCALENDAR