BEGIN:VCALENDAR
VERSION:2.0
PRODID:-//Tigertræning - ECPv4.8.1//NONSGML v1.0//EN
CALSCALE:GREGORIAN
METHOD:PUBLISH
X-WR-CALNAME:Tigertræning
X-ORIGINAL-URL:https://tigertraening.dk
X-WR-CALDESC:Events for Tigertræning
BEGIN:VEVENT
DTSTART;TZID=UTC+0:20160910T100000
DTEND;TZID=UTC+0:20160910T120000
DTSTAMP:20260421T210654
CREATED:20161207T102153Z
LAST-MODIFIED:20161207T102153Z
UID:4306-1473501600-1473508800@tigertraening.dk
SUMMARY:Familiehold med live musik
DESCRIPTION:
URL:https://tigertraening.dk/event/familiehold-live-musik-3/
LOCATION:Kulturhuset Islands Brygge\, Islands Brygge 18\, Kbh S\, 2300
END:VEVENT
END:VCALENDAR