BEGIN:VCALENDAR
VERSION:2.0
PRODID:-//Tigertræning - ECPv4.8.1//NONSGML v1.0//EN
CALSCALE:GREGORIAN
METHOD:PUBLISH
X-WR-CALNAME:Tigertræning
X-ORIGINAL-URL:https://tigertraening.dk
X-WR-CALDESC:Events for Tigertræning
BEGIN:VEVENT
DTSTART;TZID=UTC+0:20160828T100000
DTEND;TZID=UTC+0:20160828T120000
DTSTAMP:20260421T135842
CREATED:20161207T100539Z
LAST-MODIFIED:20161207T100539Z
UID:4278-1472378400-1472385600@tigertraening.dk
SUMMARY:Familiehold med live musik
DESCRIPTION:
URL:https://tigertraening.dk/event/familiehold-live-musik-2/
LOCATION:Kulturstationen Vanløse\, Frode Jakobsens Plads 4\, Vanløse\, 2720
END:VEVENT
END:VCALENDAR